BEGIN:VCALENDAR
VERSION:2.0
PRODID:-//hacksw/handcal//NONSGML v1.0//EN
CALSCALE:GREGORIAN
BEGIN:VEVENT
DESCRIPTION:Peanutbaltoernooi groep 7/8
SUMMARY:Peanutbaltoernooi groep 7/8
DTSTART:20230608T083000Z
DTEND:20230609T000000Z
DTSTAMP:20260421T045444Z
UID:69e703149fcfa
END:VEVENT
END:VCALENDAR