BEGIN:VCALENDAR
VERSION:2.0
PRODID:-//hacksw/handcal//NONSGML v1.0//EN
CALSCALE:GREGORIAN
BEGIN:VEVENT
DESCRIPTION:Schoolkamp groep 7/8
SUMMARY:Schoolkamp groep 7/8
DTSTART:20230531T000100Z
DTEND:20230602T000000Z
DTSTAMP:20260421T045444Z
UID:69e7031424fea
END:VEVENT
END:VCALENDAR