BEGIN:VCALENDAR
VERSION:2.0
PRODID:-//hacksw/handcal//NONSGML v1.0//EN
CALSCALE:GREGORIAN
BEGIN:VEVENT
DESCRIPTION:Deze week kennismakingsgesprekken
SUMMARY:Deze week kennismakingsgesprekken
DTSTART:20221010T132300Z
DTEND:20221014T000000Z
DTSTAMP:20260421T045445Z
UID:69e703152567c
END:VEVENT
END:VCALENDAR